BEGIN:VCALENDAR
VERSION:2.0
PRODID:-//ChamberMaster//Event Calendar 2.0//EN
METHOD:PUBLISH
X-PUBLISHED-TTL:P3D
REFRESH-INTERVAL:P3D
CALSCALE:GREGORIAN
BEGIN:VEVENT
DTSTART:20260513T130000Z
DTEND:20260513T180000Z
X-MICROSOFT-CDO-ALLDAYEVENT:FALSE
SUMMARY:The Nuclear Renaissance: Powering Innovation and Opportunity
DESCRIPTION:We are honoured to welcome Michael Lee-Chin\, Chairman and CEO of Portland Holdings and one of Canada's most successful investors and entrepreneurs. A self-made billionaire and globally respected thought leader\, Michael will share the principles behind his renowned 3P Framework Predict\, Plan\, Persevere and demonstrate how he is applying this disciplined approach to the unprecedented opportunities emerging across the nuclear landscape. Michael will explore how nuclear energy is poised to redefine the world's energy infrastructure and play a transformative role in addressing one of humanity's greatest challenges: cancer.\n\n\n\nAs global priorities shift toward clean energy\, energy security and breakthrough healthcare solutions\, nuclear innovation is accelerating. It represents one of the most important economic and technological opportunities of our time.\n\nJoin the Barrie Chamber of Commerce\, the Orillia Chamber of Commerce\, and Georgian College for The Nuclear Renaissance\, a high-level forum exploring Ontario's leadership in nuclear energy and nuclear medicine\, and what it means for businesses\, workforce development and regional growth.\n\nThis event will bring together leaders from industry\, education and the business community to examine the evolving nuclear landscape and the opportunities emerging for our region.\n\nAs Founder and Chairman of Portland Holdings\, Michael Lee-Chin\, is widely regarded as a visionary entrepreneur whose philosophy of "doing well\, by doing good" has resulted in extraordinary business success and inspiring philanthropic initiatives.\n\nPortland Holdings is a privately held investment company that manages public equity and private equity\, and has an ownership interest in a collection of diversified businesses operating in various countries and numerous sectors\, including financial services\, insurance\, tourism\, agriculture\, consumer goods and services\, real estate development\, targeted radionuclide therapy\, and nuclear and clean energy.\n\nPortland is committed to "building strong Indigenous businesses" and\, equally important\, these businesses must seek to improve the social wellbeing of the communities in which they operate.\n\nAmong his many personal accomplishments\, Michael has received Doctor of Laws degrees from a number of distinguished universities in Canada and Jamaica. He has been profiled in Forbes\, Fortune\, Canadian Business\, Black Enterprise and Time magazines. From 2011   2016\, Michael held the esteemed position of Chancellor of Wilfrid Laurier University in Ontario\, Canada. In 2008\, he was awarded the Order of Jamaica\, one of the country's highest national honours for outstanding service in business and philanthropy and\, in 2018\, Michael was appointed to the Order of Ontario\, the province's highest honour\, reserved for those whose contributions have shaped the province\, the country and beyond.
X-ALT-DESC;FMTTYPE=text/html:<p data-end="501" data-start="281" style="box-sizing: border-box\; margin: 0px 0px 1rem\; outline: 0px\; color: rgb(94\, 94\, 94)\; font-family: Montserrat\, Arial\, sans-serif\; font-size: 16px\;"><span style="box-sizing: border-box\; outline: 0px\; font-size: 14px\;"><span style="box-sizing: border-box\; outline: 0px\; font-family: verdana\;">We are honoured to welcome&nbsp\;<span style="box-sizing: border-box\; font-weight: bolder\;">Michael Lee-Chin\, Chairman and CEO of Portland Holdings</span>&nbsp\;and one of Canada&rsquo\;s most successful investors and entrepreneurs. A self-made billionaire and globally respected thought leader\, Michael will share the principles behind his renowned 3P Framework&mdash\;Predict\, Plan\, Persevere&mdash\;and demonstrate how he is applying this disciplined approach to the unprecedented opportunities emerging across the nuclear landscape. Michael will explore how nuclear energy is poised to redefine the world&rsquo\;s energy infrastructure and play a transformative role in addressing one of humanity&rsquo\;s greatest challenges: cancer.</span></span><br />\n<br style="box-sizing: border-box\;" />\n<span style="box-sizing: border-box\; font-size: 14px\;"><span style="box-sizing: border-box\; font-family: verdana\;">As global priorities shift toward clean energy\, energy security and breakthrough healthcare solutions\, nuclear innovation is accelerating. It represents one of the most important economic and technological opportunities of our time.</span></span></p>\n\n<p data-end="792" data-start="503" style="box-sizing: border-box\; margin: 0px 0px 1rem\; color: rgb(94\, 94\, 94)\; font-family: Montserrat\, Arial\, sans-serif\; font-size: 16px\;"><span style="box-sizing: border-box\; font-size: 14px\;"><span style="box-sizing: border-box\; font-family: verdana\;">Join the Barrie Chamber of Commerce\, the Orillia Chamber of Commerce\, and Georgian College for&nbsp\;<span style="box-sizing: border-box\; font-weight: bolder\;"><em data-end="623" data-start="598" style="box-sizing: border-box\;">The Nuclear Renaissance</em></span>\, a high-level forum exploring Ontario&rsquo\;s leadership in nuclear energy and nuclear medicine\, and what it means for businesses\, workforce development&nbsp\;and regional growth.</span></span></p>\n\n<p data-end="974" data-start="794" style="box-sizing: border-box\; margin: 0px 0px 1rem\; color: rgb(94\, 94\, 94)\; font-family: Montserrat\, Arial\, sans-serif\; font-size: 16px\;"><span style="box-sizing: border-box\; font-size: 14px\;"><span style="box-sizing: border-box\; font-family: verdana\;">This event will bring together leaders from industry\, education&nbsp\;and the business community to examine the evolving nuclear landscape and the opportunities emerging for our region.</span></span></p>\n\n<p data-end="1066" data-start="976" style="box-sizing: border-box\; margin: 0px 0px 1rem\; color: rgb(94\, 94\, 94)\; font-family: Montserrat\, Arial\, sans-serif\; font-size: 16px\;"><span style="box-sizing: border-box\; font-size: 14px\;"><span style="box-sizing: border-box\; font-family: verdana\;">As Founder and Chairman of Portland Holdings\, Michael Lee-Chin\, is widely regarded as a visionary entrepreneur whose philosophy of &ldquo\;doing well\, by doing good&rdquo\; has resulted in extraordinary business success and inspiring philanthropic initiatives.</span></span></p>\n\n<p data-end="658" data-start="250" style="box-sizing: border-box\; margin: 0px 0px 1rem\; color: rgb(94\, 94\, 94)\; font-family: Montserrat\, Arial\, sans-serif\; font-size: 16px\;"><span style="box-sizing: border-box\; font-size: 14px\;"><span style="box-sizing: border-box\; font-family: verdana\;">Portland Holdings is a privately held investment company that manages public equity and private equity\, and has an ownership interest in a collection of diversified businesses operating in various countries and numerous sectors\, including financial services\, insurance\, tourism\, agriculture\, consumer goods and services\, real estate development\, targeted radionuclide therapy\, and nuclear and clean energy.</span></span></p>\n\n<p data-end="851" data-start="660" style="box-sizing: border-box\; margin: 0px 0px 1rem\; color: rgb(94\, 94\, 94)\; font-family: Montserrat\, Arial\, sans-serif\; font-size: 16px\;"><span style="box-sizing: border-box\; font-size: 14px\;"><span style="box-sizing: border-box\; font-family: verdana\;">Portland is committed to &ldquo\;building strong Indigenous businesses&rdquo\; and\, equally important\, these businesses must seek to improve the social wellbeing of the communities in which they operate.</span></span></p>\n\n<p data-end="1544" data-is-last-node="" data-is-only-node="" data-start="853" style="box-sizing: border-box\; margin: 0px 0px 1rem\; color: rgb(94\, 94\, 94)\; font-family: Montserrat\, Arial\, sans-serif\; font-size: 16px\;"><span style="box-sizing: border-box\; font-size: 14px\;"><span style="box-sizing: border-box\; font-family: verdana\;">Among his many personal accomplishments\, Michael has received Doctor of Laws degrees from a number of distinguished universities in Canada and Jamaica. He has been profiled in Forbes\, Fortune\, Canadian Business\, Black Enterprise and Time magazines. From 2011 &ndash\; 2016\, Michael held the esteemed position of Chancellor of Wilfrid Laurier University in Ontario\, Canada. In 2008\, he was awarded the Order of Jamaica\, one of the country&rsquo\;s highest national honours for outstanding service in business and philanthropy and\, in 2018\, Michael was appointed to the Order of Ontario\, the province&rsquo\;s highest honour\, reserved for those whose contributions have shaped the province\, the country and beyond.</span></span></p>\n
LOCATION:Georgian College Barrie Campus Alumni Hall 1 Georgian Dr. Buildign K\, Barrie\, ON\, L4M 6J8
UID:e.3469.1834
SEQUENCE:3
DTSTAMP:20260423T001831Z
URL:https://business.orillia.com/events/details/the-nuclear-renaissance-powering-innovation-and-opportunity-1834
END:VEVENT

END:VCALENDAR
