BEGIN:VCALENDAR
VERSION:2.0
PRODID:-//ChamberMaster//Event Calendar 2.0//EN
METHOD:PUBLISH
X-PUBLISHED-TTL:P3D
REFRESH-INTERVAL:P3D
CALSCALE:GREGORIAN
BEGIN:VEVENT
DTSTART:20260620T140000Z
DTEND:20260620T170000Z
X-MICROSOFT-CDO-ALLDAYEVENT:FALSE
SUMMARY:Orillia Walk for Alzheimer's
DESCRIPTION:Join us for the Orillia Walk for Alzheimer's on June 20th at Tudhope Park! This community walk brings together local residents\, families\, and workplaces to raise awareness and support those living with Alzheimer's disease and other dementias. Teams from local businesses are encouraged to participate\, making it a great opportunity for staff wellness\, community engagement\, and team building. Come walk with us and help build a more dementia-friendly Orillia. ?? https://assc.akaraisin.com/ui/walk2026orillia/g/orilliawalk2026
X-ALT-DESC;FMTTYPE=text/html:Join us for the Orillia Walk for Alzheimer&rsquo\;s on June 20th at Tudhope Park! This community walk brings together local residents\, families\, and workplaces to raise awareness and support those living with Alzheimer&rsquo\;s disease and other dementias. Teams from local businesses are encouraged to participate\, making it a great opportunity for staff wellness\, community engagement\, and team building. Come walk with us and help build a more dementia-friendly Orillia. ?? https://assc.akaraisin.com/ui/walk2026orillia/g/orilliawalk2026
LOCATION:450 Atherley Road\, Orillia
UID:e.3469.1833
SEQUENCE:3
DTSTAMP:20260420T164958Z
URL:https://business.orillia.com/events/details/orillia-walk-for-alzheimer-s-1833
END:VEVENT

END:VCALENDAR
